BEGIN:VCALENDAR
VERSION:2.0
PRODID:-//wp-events-plugin.com//7.2.3.1//EN
TZID:Europe/Berlin
X-WR-TIMEZONE:Europe/Berlin
BEGIN:VEVENT
UID:11675@literaturseiten-muenchen.de
DTSTART;TZID=Europe/Berlin:20251008T190000
DTEND;TZID=Europe/Berlin:20251008T203000
DTSTAMP:20250903T102642Z
URL:https://www.literaturseiten-muenchen.de/veranstaltungen/was-wir-wissen
 -koennen-ein-abend-mit-ian-mcewan/
SUMMARY:»Was wir wissen können« Ein Abend mit Ian McEwan
DESCRIPTION:Moderation: Marie Schoess (BR)\n\n2119: Die Welt ist überschwe
 mmt\, Europa eine Insellandschaft\, Freiheit und Reichtum – ein vergange
 ner Traum. In dieser Zeit durchforstet ein Literaturwissenschaftler die Ar
 chive des frühen 21. Jahrhunderts\, auf der Suche nach einem verschollene
 n Gedicht. Was als reine literarische Obsession beginnt\, weitet sich aus 
 zu einer komplexen Recherche\, in der sich alte Lieben und verborgene Verb
 rechen zu einem dichten Netz verweben.\nIn seinem neuen Roman (Diogenes //
  dt. Bernhard Robben) erweist sich der britische Meistererzähler Ian McEw
 an einmal mehr als »hochliterarischer wie engagierter Zeitdiagnostiker« 
 (Neue Zürcher Zeitung). Er entwirft eine Zukunft\, die gleichermaßen ent
 rückt wie bekannt erscheint. Und lässt in der drohenden Katastrophe Hoff
 nung aufscheinen.\n\nTickets erhältlich unter Reservix\nEINTRITT: EURO 25
 .- / 15.-\nVERANSTALTUNGSPRACHEN: ENGLISCH &amp\; DEUTSCH\n\nVeranstalter:
  Stiftung Literaturhaus // in Kooperation mit dem Muffatwerk\n\n\n\nAus de
 r Reihe: LITERATUR AUSSER HAUS\n
CATEGORIES:Buchpräsentation,Gespräch / Diskussion,Lesung
LOCATION:Muffathalle\, Zellstr. 4 81667 München \, München \, 81667 \, De
 utschland
GEO:48.1328847;11.589336199999934
X-APPLE-STRUCTURED-LOCATION;VALUE=URI;X-ADDRESS=Zellstr. 4 81667 München \
 , München \, 81667 \, Deutschland;X-APPLE-RADIUS=100;X-TITLE=Muffathalle:
 geo:48.1328847,11.589336199999934
END:VEVENT
BEGIN:VTIMEZONE
TZID:Europe/Berlin
X-LIC-LOCATION:Europe/Berlin
BEGIN:DAYLIGHT
DTSTART:20250330T030000
TZOFFSETFROM:+0100
TZOFFSETTO:+0200
TZNAME:CEST
END:DAYLIGHT
END:VTIMEZONE
END:VCALENDAR