BEGIN:VCALENDAR
VERSION:2.0
PRODID:-//wp-events-plugin.com//7.2.3.1//EN
TZID:Europe/Berlin
X-WR-TIMEZONE:Europe/Berlin
BEGIN:VEVENT
UID:12148@literaturseiten-muenchen.de
DTSTART;TZID=Europe/Berlin:20251214T193000
DTEND;TZID=Europe/Berlin:20251214T193000
DTSTAMP:20251116T212626Z
URL:https://www.literaturseiten-muenchen.de/veranstaltungen/weihnachten-mi
 t-familie-thalbach/
SUMMARY:Weihnachten mit Familie Thalbach
DESCRIPTION:Alle Jahre wieder!?\n\nmit Katharina Thalbach\, Anna Thalbach u
 nd Nellie Thalbach\n\nDrei Generationen Thalbach sorgen für die richtige 
 Weihnachtsstimmung! Tatsächlich will uns der charmant-verrückte Thalbach
 -Clan in Festtagslaune versetzen: besinnlich und humorvoll\, herzerwärmen
 d\, hochprozentig und hundsgemein. Schließlich sind die Thalbachs eine Sc
 hauspieler-Familie mit besonderer Sprech-Begabung: Katharina Thalbach erhi
 elt 2014 den Deutschen Hörbuchpreis für ihr Lebenswerk\, Tochter Anna wu
 rde 2008 als beste Interpretin mit dem Deutschen Hörbuchpreis geehrt. Und
  Enkelin Nellie\, die bereits als Siebenjährige in der „Dreigroschenope
 r“ am Maxim Gorki Theater ihr Theaterdebüt feierte\, spricht regelmäß
 ig Hörbücher und synchronisiert Filme.\n\nIns Prinzregententheater bring
 en die drei ihre liebsten Weihnachtsgedichte und -märchen mit und lesen n
 eue und alte Texte zum Winter und zur Weihnachtszeit. „Alle Jahre wieder
 !?“ – Weihnachten kann kommen!\n\nTickets: MünchenTicket\, 47\,40-82\
 ,90€
CATEGORIES:Lesung
LOCATION:Prinzregententheater\, Prinzregentenplatz 12\, München\, Deutschl
 and
GEO:48.139013;11.605577
X-APPLE-STRUCTURED-LOCATION;VALUE=URI;X-ADDRESS=Prinzregentenplatz 12\, Mü
 nchen\, Deutschland;X-APPLE-RADIUS=100;X-TITLE=Prinzregententheater:geo:48
 .139013,11.605577
END:VEVENT
BEGIN:VTIMEZONE
TZID:Europe/Berlin
X-LIC-LOCATION:Europe/Berlin
BEGIN:STANDARD
DTSTART:20251026T020000
TZOFFSETFROM:+0200
TZOFFSETTO:+0100
TZNAME:CET
END:STANDARD
END:VTIMEZONE
END:VCALENDAR