BEGIN:VCALENDAR
VERSION:2.0
PRODID:-//wp-events-plugin.com//7.2.3.1//EN
TZID:Europe/Berlin
X-WR-TIMEZONE:Europe/Berlin
BEGIN:VEVENT
UID:12196@literaturseiten-muenchen.de
DTSTART;TZID=Europe/Berlin:20260107T180000
DTEND;TZID=Europe/Berlin:20260107T210000
DTSTAMP:20251202T161738Z
URL:https://www.literaturseiten-muenchen.de/veranstaltungen/weihnachtsfest
 -mit-mir/
SUMMARY:Weihnachtsfest mit MIR
DESCRIPTION:Seit über drei Jahrzehnten veranstaltet MIR e. V. in München 
 das orthodoxe Weihnachtsfest\, bei dem es nicht nur Weihnachtsgeschichten 
 zu hören gibt\, sondern auch Musik und Lieder.
CATEGORIES:Literatur &amp; Musik,Weitere Veranstaltungen
LOCATION:Eine Welt Haus\, Schwanthalerstr. 80\, München\, 80336\, Deutschl
 and
GEO:48.13768;11.552916
X-APPLE-STRUCTURED-LOCATION;VALUE=URI;X-ADDRESS=Schwanthalerstr. 80\, Münc
 hen\, 80336\, Deutschland;X-APPLE-RADIUS=100;X-TITLE=Eine Welt Haus:geo:48
 .13768,11.552916
END:VEVENT
BEGIN:VTIMEZONE
TZID:Europe/Berlin
X-LIC-LOCATION:Europe/Berlin
BEGIN:STANDARD
DTSTART:20251026T020000
TZOFFSETFROM:+0200
TZOFFSETTO:+0100
TZNAME:CET
END:STANDARD
END:VTIMEZONE
END:VCALENDAR