BEGIN:VCALENDAR
VERSION:2.0
PRODID:-//wp-events-plugin.com//7.2.3.1//EN
TZID:Europe/Berlin
X-WR-TIMEZONE:Europe/Berlin
BEGIN:VEVENT
UID:12239@literaturseiten-muenchen.de
DTSTART;TZID=Europe/Berlin:20260125T160000
DTEND;TZID=Europe/Berlin:20260125T173000
DTSTAMP:20251212T172023Z
URL:https://www.literaturseiten-muenchen.de/veranstaltungen/weiterleben-na
 ch-der-shoah/
SUMMARY:Weiterleben nach der Shoah
DESCRIPTION:Konzertlesung zum Internationalen Tag des Gedenkens an die Opfe
 r des Holocaust am 27. Januar mit Julia Cortis und Dr. Björn Mensing.\n\n
 Esther Bejarano\, Uri Chanoch und Ruth Klüger haben als Jugendliche die G
 rauen der Shoah in verschiedenen Konzentrationslagern überlebt. Julia Cor
 tis\, Sprecherin aus dem Bayerischen Rundfunk\, trägt deren Erinnerungen 
 an das Frühjahr und den Sommer 1945 vor\, biographische Einführungen gib
 t Kirchenrat Dr. Björn Mensing. Er konnte die drei Shoah-Überlebenden no
 ch persönlich kennenlernen\, die zwischen 2015 und 2021 verstorben sind.\
 n\nDas musikalische Programm gestaltet ein junges Vokalquartett\, bestehen
 d aus Teresa Hüttner\, Anika Mensing\, Johannes Günther und Oliver van M
 eerendonk. Es erklingen Lieder\, die bereits 1945 bekannt waren und die ga
 nz unterschiedlichen Stimmungslagen der Befreiten widerspiegeln.\n\nMit:\n
 Julia Cortis\nSprecherin und Moderatorin in Hörfunk\, Fernsehen und auf d
 er Bühne\n\nDr. Björn Mensing\nTheologe und Historiker\, Pfarrer der Ver
 söhnungskirche in der KZ-Gedenkstätte Dachau\n\nKostenfrei nach Anmeldun
 g unter www.stadtakademie-muenchen.de\n\nVor Ort und im Livestream
CATEGORIES:Lesung,Literatur &amp; Musik
LOCATION:Evangelische Stadtakademie München\, Herzog-Wilhelm-Straße 24\, 
 München\, 80331\, Deutschland
GEO:48.135242;11.566574
X-APPLE-STRUCTURED-LOCATION;VALUE=URI;X-ADDRESS=Herzog-Wilhelm-Straße 24\,
  München\, 80331\, Deutschland;X-APPLE-RADIUS=100;X-TITLE=Evangelische St
 adtakademie München:geo:48.135242,11.566574
END:VEVENT
BEGIN:VTIMEZONE
TZID:Europe/Berlin
X-LIC-LOCATION:Europe/Berlin
BEGIN:STANDARD
DTSTART:20251026T020000
TZOFFSETFROM:+0200
TZOFFSETTO:+0100
TZNAME:CET
END:STANDARD
END:VTIMEZONE
END:VCALENDAR