BEGIN:VCALENDAR
VERSION:2.0
PRODID:-//wp-events-plugin.com//7.2.3.1//EN
TZID:Europe/Berlin
X-WR-TIMEZONE:Europe/Berlin
BEGIN:VEVENT
UID:11681@literaturseiten-muenchen.de
DTSTART;TZID=Europe/Berlin:20251020T190000
DTEND;TZID=Europe/Berlin:20251020T203000
DTSTAMP:20250903T105949Z
URL:https://www.literaturseiten-muenchen.de/veranstaltungen/welches-europa
 -brauchen-wir-ein-abend-mit-francesca-gerald-knaus/
SUMMARY:»Welches Europa brauchen wir?« Ein Abend mit Francesca &amp\; Ger
 ald Knaus
DESCRIPTION:Moderation: Philipp Sandmann\n\nDie europäische Ordnung\, Frie
 de und Wohlstand sind so bedroht wie seit Ende des Kalten Krieges nicht me
 hr: Russland führt den größten Krieg seit 1945. Angst vor unkontrollier
 ter Migration spaltet unsere Demokratien. Junge Menschen wenden sich von d
 er EU ab. In ihrem gemeinsamen Buch stellen Francesca Knaus\, Mitarbeiteri
 n im Deutschen Bundestag zu Außenpolitik und Menschenrechten\, und der Mi
 grationsexperte und Regierungsberater Gerald Knaus ihre Vision für unsere
 n verunsicherten Kontinent vor (Piper). Mit Blick in die Geschichte zeigen
  sie\, wo wir Inspiration finden und wie daraus Politik werden kann\, die 
 Mehrheiten überzeugt – für ein Europa ohne Kriege.\n\nTickets erhältl
 ich unter Reservix\nEINTRITT: EURO 16.- / 10.-\nSTREAM-TICKETS: EURO 8.-\n
 \nVeranstalter: Stiftung Literaturhaus\n\n
CATEGORIES:Buchpräsentation,Gespräch / Diskussion,Lesung
LOCATION:Literaturhaus München\, Salvatorplatz 1\, München\, Bayern\, 803
 33\, Deutschland
GEO:48.142051;11.574991
X-APPLE-STRUCTURED-LOCATION;VALUE=URI;X-ADDRESS=Salvatorplatz 1\, München\
 , Bayern\, 80333\, Deutschland;X-APPLE-RADIUS=100;X-TITLE=Literaturhaus M
 ünchen:geo:48.142051,11.574991
END:VEVENT
BEGIN:VTIMEZONE
TZID:Europe/Berlin
X-LIC-LOCATION:Europe/Berlin
BEGIN:DAYLIGHT
DTSTART:20250330T030000
TZOFFSETFROM:+0100
TZOFFSETTO:+0200
TZNAME:CEST
END:DAYLIGHT
END:VTIMEZONE
END:VCALENDAR