BEGIN:VCALENDAR
VERSION:2.0
PRODID:-//wp-events-plugin.com//7.2.3.1//EN
TZID:Europe/Berlin
X-WR-TIMEZONE:Europe/Berlin
BEGIN:VEVENT
UID:11854@literaturseiten-muenchen.de
DTSTART;TZID=Europe/Berlin:20251105T200000
DTEND;TZID=Europe/Berlin:20251105T213000
DTSTAMP:20251001T153032Z
URL:https://www.literaturseiten-muenchen.de/veranstaltungen/wenn-die-sonne
 -untergeht-familie-mann-in-sanary-ein-abend-mit-florian-illies/
SUMMARY:»Wenn die Sonne untergeht. Familie Mann in Sanary« Ein Abend mit 
 Florian Illies
DESCRIPTION:Moderation: Marie Schoeß (BR)\n\nIm Sommer 1933 spitzt sich di
 e politische Lage in Europa zu. Auch die Familie Mann ist nach abenteuerli
 chen Fluchten in Sanary-sur-Mer gestrandet\, einem malerischen Fischerort 
 am französischen Mittelmeer. Und nun wissen sie alle weder vor noch zurü
 ck. Florian Illies erzählt von der Trauer um den Verlust der Heimat und d
 es Besitzes\, der Angst vor den Plünderungen der Nazis\, von Wehmut\, Tro
 tz und Leidenschaft (S. Fischer).\n\nEINTRITT: EURO 25.- / 10.- (Tickets a
 n der Theaterkasse der Maximilianstraße 26-28 und unter www.muenchner-kam
 merspiele.de)\n\nVeranstalter: Münchner Kammerspiele // in Kooperation mi
 t der Stiftung Literaturhaus\n\n\n\n\n
CATEGORIES:Gespräch / Diskussion,Lesung,Literatur &amp; Musik
LOCATION:Literaturhaus\, Salvatorplatz 1\, München\, Bayern\, Deutschland
GEO:48.142051;11.574991
X-APPLE-STRUCTURED-LOCATION;VALUE=URI;X-ADDRESS=Salvatorplatz 1\, München\
 , Bayern\, Deutschland;X-APPLE-RADIUS=100;X-TITLE=Literaturhaus:geo:48.142
 051,11.574991
END:VEVENT
BEGIN:VTIMEZONE
TZID:Europe/Berlin
X-LIC-LOCATION:Europe/Berlin
BEGIN:STANDARD
DTSTART:20251026T020000
TZOFFSETFROM:+0200
TZOFFSETTO:+0100
TZNAME:CET
END:STANDARD
END:VTIMEZONE
END:VCALENDAR