BEGIN:VCALENDAR
VERSION:2.0
PRODID:-//wp-events-plugin.com//7.2.3.1//EN
TZID:Europe/Berlin
X-WR-TIMEZONE:Europe/Berlin
BEGIN:VEVENT
UID:12321@literaturseiten-muenchen.de
DTSTART;TZID=Europe/Berlin:20260202T190000
DTEND;TZID=Europe/Berlin:20260202T203000
DTSTAMP:20260107T144502Z
URL:https://www.literaturseiten-muenchen.de/veranstaltungen/wir-dachten-da
 s-leben-kommt-noch-lesung-mit-elisabeth-sandmann-sunnyi-melles/
SUMMARY:»Wir dachten\, das Leben kommt noch« Lesung mit Elisabeth Sandman
 n &amp\; Sunnyi Melles
DESCRIPTION:Moderation: Felicitas von Lovenberg\n\nElisabeth Sandmann: Als 
 leidenschaftliche Verlegerin bringt sie seit über 20 Jahren Bücher über
  mutige Frauen in die Welt\, seit ihrem Bestseller »Porträt auf grüner 
 Wandfarbe« feiert sie auch als Autorin Erfolge. In ihrem neuen Roman (Pip
 er) gibt sie den vergessenen Frauen des britischen Widerstands eine Stimme
 . Raffiniert verknüpft sie Zeitebenen und Schicksale und erzählt von wag
 emutigen Frauen\, die brisante Sabotageakte verübten\, geheime Funksprüc
 he absetzten – und töteten\, wenn nötig. Es ist ein Buch über Frauen\
 , die Weltpolitik gemacht haben – unbemerkt und lautlos. Eine Geschichte
  über Mut\, Verantwortung und die langen Schatten der Vergangenheit. Es l
 iest Bühnen- und Filmstar Sunnyi Melles.\n\nTickets erhältlich unter Res
 erviX\nEINTRITT: EURO 16.- / 10.-\nSTREAM-TICKETS: EURO 8.-\n\nVeranstalte
 r: Stiftung Literaturhaus // Piper Verlag
CATEGORIES:Buchpräsentation,Gespräch / Diskussion,Lesung
LOCATION:Literaturhaus München\, Salvatorplatz 1\, München\, Bayern\, 803
 33\, Deutschland
GEO:48.142051;11.574991
X-APPLE-STRUCTURED-LOCATION;VALUE=URI;X-ADDRESS=Salvatorplatz 1\, München\
 , Bayern\, 80333\, Deutschland;X-APPLE-RADIUS=100;X-TITLE=Literaturhaus M
 ünchen:geo:48.142051,11.574991
END:VEVENT
BEGIN:VTIMEZONE
TZID:Europe/Berlin
X-LIC-LOCATION:Europe/Berlin
BEGIN:STANDARD
DTSTART:20251026T020000
TZOFFSETFROM:+0200
TZOFFSETTO:+0100
TZNAME:CET
END:STANDARD
END:VTIMEZONE
END:VCALENDAR