BEGIN:VCALENDAR
VERSION:2.0
PRODID:-//wp-events-plugin.com//7.2.3.1//EN
TZID:Europe/Berlin
X-WR-TIMEZONE:Europe/Berlin
BEGIN:VEVENT
UID:12114@literaturseiten-muenchen.de
DTSTART;TZID=Europe/Berlin:20251217T190000
DTEND;TZID=Europe/Berlin:20251217T203000
DTSTAMP:20251116T094408Z
URL:https://www.literaturseiten-muenchen.de/veranstaltungen/wir-stellen-vo
 r-unsere-neuen-publikationen-aus-dem-franz-schiermeier-verlag/
SUMMARY:Wir stellen vor: Unsere neuen Publikationen aus dem Franz Schiermei
 er Verlag
DESCRIPTION:Vorgestellt werden der „Kalender Industriekultur in München 
 2026 – Zwischen Abriss und Bewahren“ sowie von Gerald Engasser die Bio
 graphie über Bertl Lörcher „Ich will meinen eigenen Weg gehen – Sozi
 alist\, Antifaschist\, Gewerkschafter“.\nDie nun seit Jahren erscheinend
 en Kalender zur Industriekultur sollen das Bewusstsein wecken für die Bed
 eutung der Zeugnisse der Industriekultur in unserer Stadt. Als Beispiele z
 eigen die Autorinnen und Autoren verschwundene Bauwerke des Industriezeita
 lters\, durch Abriss gefährdete Anlagen und erfolgreich umgenutzte Objekt
 e. Sie wollen damit die Diskussion über den Umgang mit diesen historische
 n Gebäuden in Gang bringen und Mitstreiter*innen für ihre Erhaltung gewi
 nnen. Vorgestellt werden im Kalender 2026 unter anderem das Backhaus Risch
 art\, die Bühnentechnik des Prinzregententheaters\, die Pumpstation St. E
 mmeram\, die Allacher Porzellanfabrik\, das Unterwerk Pasing\, das erste a
 utomatische Fernsprechamt München-Schwabing und die Isartalbahn-Eisenbahn
 brücke.\n\nGerade einmal 20 Jahre war der Münchner Kürschnergeselle Alb
 ert Lörcher alt\, als ihn im August 1933 ein Münchner Sondergericht zu e
 lf Monaten Gefängnis verurteilte. Bertl\, wie ihn alle nannten\, hatte si
 ch schon als Lehrling der Sozialistischen Arbeiterjugend angeschlossen. Na
 chdem ein Schlägertrupp der SA am 9. März 1933 das Gewerkschaftshaus bes
 etzt hatte\, tat er sich mit seinem Bruder Ernst und einigen Freunden zusa
 mmen: Sie wollten nicht tatenlos zusehen\, wie das NS-Regime Deutschland z
 u einem totalitären „Führerstaat“ umbaute. Nach Gefängnis\, KZ-Haft
  und Zwangsrekrutierung in der Bewährungseinheit 999 konnte sich Bertl L
 örcher erst 1945 wieder frei fühlen und endlich seinen eigenen Weg gehen
 .\n\nEintritt frei\, keine Voranmeldung notwendig.
CATEGORIES:Buchpräsentation,Lesung,Vortrag
LOCATION:Seidlvilla\, Nikolaiplatz 1b\, München\, 80802\, Deutschland
GEO:48.15867;11.587729999999965
X-APPLE-STRUCTURED-LOCATION;VALUE=URI;X-ADDRESS=Nikolaiplatz 1b\, München\
 , 80802\, Deutschland;X-APPLE-RADIUS=100;X-TITLE=Seidlvilla:geo:48.15867,1
 1.587729999999965
END:VEVENT
BEGIN:VTIMEZONE
TZID:Europe/Berlin
X-LIC-LOCATION:Europe/Berlin
BEGIN:STANDARD
DTSTART:20251026T020000
TZOFFSETFROM:+0200
TZOFFSETTO:+0100
TZNAME:CET
END:STANDARD
END:VTIMEZONE
END:VCALENDAR