BEGIN:VCALENDAR
VERSION:2.0
PRODID:-//wp-events-plugin.com//7.2.3.1//EN
TZID:Europe/Berlin
X-WR-TIMEZONE:Europe/Berlin
BEGIN:VEVENT
UID:12935@literaturseiten-muenchen.de
DTSTART;TZID=Europe/Berlin:20260513T190000
DTEND;TZID=Europe/Berlin:20260513T203000
DTSTAMP:20260415T153827Z
URL:https://www.literaturseiten-muenchen.de/veranstaltungen/wir-waren-die-
 zukunft-leben-im-kibbuz/
SUMMARY:"Wir waren die Zukunft. Leben im Kibbuz"
DESCRIPTION: »Wir waren die Zukunft. Leben im Kibbuz«\n\nvon und mit der
  Autorin Yael Neeman\n\n Yael Neeman wurde 1960 in einem Kibbuz geboren\,
  den ihre aus Ungarn und Wien geflohenen Eltern 1946 mitbegründeten.\n\nS
 ie beschreibt die Geschichte der Kibbuz-Bewegung\, die 2025 im Berliner Ve
 rlag Altneuland erschien\, anhand ihrer Kindheit und Jugend.\n\nEs entsteh
 t damit ein Porträt dieses Sozialexperiments\, mit dessen Hilfe in Israel
  an einer neuen\, utopischen jüdischen Gesellschaft jenseits von Pogromen
  und Diaspora gearbeitet wurde und wo die Kibuzz-Bewegung heute steht.\n\n
 Das Gespräch mit Yael Neeman führt ihre Übersetzerin Lucia Engelbrecht 
 auf Hebräisch mit deutscher Übersetzung.\n\nLesung in Deutsch: Ellen Pre
 sser\n\nAnmeldung erbeten unter karten@ikg-m.de oder (089) 202 400 491\n\n
 Veranstalter: Kulturzentrum der IKG München &amp\; Oberbayern in Kooperat
 ion mit der Deutsch-Israelischen Gesellschaft (AG München)\n\n Veranstal
 tungsort: Jüdisches Gemeindezentrum\, St.-Jakobs-Platz 18\n\n&nbsp\;\n\n&
 nbsp\;\n\n&nbsp\;\n\n&nbsp\;
CATEGORIES:Buchpräsentation,Gespräch / Diskussion,Lesung
LOCATION:Jüdisches Gemeindezentrum\, St.-Jakobs-Platz 18\, München\, Baye
 rn\, 80331 \, Deutschland
GEO:48.13468;11.57159999999999
X-APPLE-STRUCTURED-LOCATION;VALUE=URI;X-ADDRESS=St.-Jakobs-Platz 18\, Münc
 hen\, Bayern\, 80331 \, Deutschland;X-APPLE-RADIUS=100;X-TITLE=Jüdisches 
 Gemeindezentrum:geo:48.13468,11.57159999999999
END:VEVENT
BEGIN:VTIMEZONE
TZID:Europe/Berlin
X-LIC-LOCATION:Europe/Berlin
BEGIN:DAYLIGHT
DTSTART:20260329T030000
TZOFFSETFROM:+0100
TZOFFSETTO:+0200
TZNAME:CEST
END:DAYLIGHT
END:VTIMEZONE
END:VCALENDAR