BEGIN:VCALENDAR
VERSION:2.0
PRODID:-//wp-events-plugin.com//7.2.3.1//EN
TZID:Europe/Berlin
X-WR-TIMEZONE:Europe/Berlin
BEGIN:VEVENT
UID:12405@literaturseiten-muenchen.de
DTSTART;TZID=Europe/Berlin:20260204T193000
DTEND;TZID=Europe/Berlin:20260204T210000
DTSTAMP:20260122T113736Z
URL:https://www.literaturseiten-muenchen.de/veranstaltungen/z-ypsilon-x-le
 sung-und-gespraech-mit-peter-waterhouse/
SUMMARY:„Z Ypsilon X“ Lesung und Gespräch mit Peter Waterhouse
DESCRIPTION:Niemand in der Familie sprach gern über den Großvater\, der a
 ls Hauptschriftleiter eine zentrale Rolle in der österreichischen NS-Prop
 aganda innegehabt hatte und 1944 an der Ostfront gefallen war. Und niemand
  beachtete die Bücher\, die dieser als passionierter Leser gesammelt hatt
 e\, Bücher von Karl Kraus\, Peter Altenberg und vielen anderen\, die in d
 en Regalen der Nachkommen zusehends verstaubten. Doch hundert Jahre nach d
 em Tod des Großvaters beginnt das Enkelkind in ihnen zu lesen und lässt 
 eine ungeahnte Gegenwelt entstehen: eine Welt des Zögerns und Fragens\, k
 onturiert durch Anstreichungen und Randnotizen\, Widmungen und Lesezeichen
 \, in der das Wort nicht dem kriegstreibenden „Voran“ und der Gewalt g
 ewidmet wird\, sondern all dem Unterbrochenen\, Leisen\, Möglichen\, das 
 scheinbar noch die Vergangenheit zu verändern weiß.\nMit „Z Ypsilon X
 “ legt Peter Waterhouse ein Opus magnum in drei Teilbänden vor\, das si
 ch jeder Gattungsbeschreibung entzieht\, und erfindet\, sich rückwärts d
 urch die eigene Familiengeschichte bewegend\, die Wirklichkeit und Welt ra
 dikal neu – ein Manifest gegen das mächtige Ich\, gegen den Betrachter 
 und das Betrachten\, für die Offenheit und das Widersprüchliche. Ein Wer
 k über Sprache(n) und das Zur-Sprache-Bringen\, über Stille und Literatu
 r.\nPeter Waterhouse\, 1956 in Berlin geboren\, lebt als Schriftsteller un
 d Übersetzer in Wien. Nach dem Studium der Germanistik und Anglistik prom
 ovierte Waterhouse 1984 mit einer Arbeit über Paul Celan. Als Autor verfa
 sst er Gedichte\, Essays\, Prosa sowie Theaterstücke und ist zudem als Ü
 bersetzer aus dem Englischen und Italienischen tätig. Für sein Werk erhi
 elt er zahlreiche Preise\, darunter den Großen Österreichischen Staatspr
 eis 2012. „Z Ypsilon X“ ist bei Matthes &amp\; Seitz Berlin erschienen
 .\n\nEintritt 7/9 Euro\nKarten unter 089 38189530
CATEGORIES:Buchpräsentation,Lesung
LOCATION:Seidlvilla\, Nikolaiplatz 1b\, München\, 80802\, Deutschland
GEO:48.15867;11.587729999999965
X-APPLE-STRUCTURED-LOCATION;VALUE=URI;X-ADDRESS=Nikolaiplatz 1b\, München\
 , 80802\, Deutschland;X-APPLE-RADIUS=100;X-TITLE=Seidlvilla:geo:48.15867,1
 1.587729999999965
END:VEVENT
BEGIN:VTIMEZONE
TZID:Europe/Berlin
X-LIC-LOCATION:Europe/Berlin
BEGIN:STANDARD
DTSTART:20251026T020000
TZOFFSETFROM:+0200
TZOFFSETTO:+0100
TZNAME:CET
END:STANDARD
END:VTIMEZONE
END:VCALENDAR