BEGIN:VCALENDAR
VERSION:2.0
PRODID:-//wp-events-plugin.com//7.2.3.1//EN
TZID:Europe/Berlin
X-WR-TIMEZONE:Europe/Berlin
BEGIN:VEVENT
UID:11900@literaturseiten-muenchen.de
DTSTART;TZID=Europe/Berlin:20251127T190000
DTEND;TZID=Europe/Berlin:20251127T190000
DTSTAMP:20251009T103022Z
URL:https://www.literaturseiten-muenchen.de/veranstaltungen/zukunft-fuer-i
 srael-und-palaestina/
SUMMARY:Zukunft für Israel und Palästina
DESCRIPTION:Welche Zukunft für Israel und Palästina – und für die deut
 sche Erinnerungskultur? Charlotte Wiedemann verbindet in ihrem Vortrag Ged
 anken aus ihrem Buch „Den Schmerz der Anderen begreifen. Holocaust und W
 eltgedächtnis“ mit aktuellen Beobachtungen zur Nahostpolitik. Sie denkt
  historische Verpflichtung und internationales Recht zusammen und besteht 
 auf menschlicher Gleichheit als ethischem Prinzip und als intellektueller 
 Herausforderung.\n\nCharlotte Wiedemann ist Autorin\, Journalistin\, Reise
 nde in vielen Ländern. Ihre Publikationen umfassen Werke wie:\n\nDer lang
 e Abschied von der weißen Dominanz. München 2019\nDer neue Iran. Eine Ge
 sellschaft tritt aus dem Schatten. München 2017/2019\nMali oder das Ringe
 n um Würde. Meine Reisen in einem verwundeten Land. München 2014\nVom Ve
 rsuch\, nicht weiß zu schreiben. Oder: Wie Journalismus unser Weltbild pr
 ägt. Köln 2012\, erweiterte Neuauflage 2018\n\nModeration: Alex Rühle\,
  Süddeutsche Zeitung
CATEGORIES:Gespräch / Diskussion,Lesung
LOCATION:Bellevue di Monaco\, Müllerstraße 2-6\, München\, 80469 \, Deut
 schland
GEO:48.13329;11.574735
X-APPLE-STRUCTURED-LOCATION;VALUE=URI;X-ADDRESS=Müllerstraße 2-6\, Münch
 en\, 80469 \, Deutschland;X-APPLE-RADIUS=100;X-TITLE=Bellevue di Monaco:ge
 o:48.13329,11.574735
END:VEVENT
BEGIN:VTIMEZONE
TZID:Europe/Berlin
X-LIC-LOCATION:Europe/Berlin
BEGIN:STANDARD
DTSTART:20251026T020000
TZOFFSETFROM:+0200
TZOFFSETTO:+0100
TZNAME:CET
END:STANDARD
END:VTIMEZONE
END:VCALENDAR